BEGIN:VCALENDAR
VERSION:2.0
PRODID:-//Yii2 Events//EN
BEGIN:VEVENT
UID:69e4e6cf0647b@www.template.eventure.si
DTSTAMP:20260419T142935Z
DTSTART:20260321T061905
DTEND:20260321T141905
SUMMARY:Yii2 Framework Workshop
DESCRIPTION:Join us for an intensive hands-on workshop covering Yii2 framework fundamentals and best practices.
LOCATION:Tech Hub Ljubljana\, Slovenska cesta 54\, Ljubljana\, Slovenia
URL:https://www.template.eventure.si/sl/event/yii2-framework-workshop
END:VEVENT
END:VCALENDAR
